BEGIN:VCALENDAR
VERSION:2.0
PRODID:-//Tukios.com/
BEGIN:VEVENT
UID:bc6cd741-8207-47ec-a8d6-ff9689768cfb@www.bowermanfuneralhome.net
DTSTAMP:20260421T003022Z
DTSTART:20260427T180000Z
DTEND:20260427T200000Z
SUMMARY:Visitation
DESCRIPTION:
URL:https://www.bowermanfuneralhome.net/obituaries/gloria-klomparens
LOCATION: 302 E Superior St  Munising MI 49862
GEO:46.4092099;-86.6520237
END:VEVENT
END:VCALENDAR