BEGIN:VCALENDAR
VERSION:2.0
PRODID:-//Tukios.com/
BEGIN:VEVENT
UID:3f0a278d-a47c-410a-99d8-9823762d851d@www.bowermanfuneralhome.net
DTSTAMP:20260421T003243Z
DTSTART:20260427T200000Z
DTEND:20260427T210000Z
SUMMARY:Memorial Service
DESCRIPTION:
URL:https://www.bowermanfuneralhome.net/obituaries/gloria-klomparens
LOCATION: 302 E Superior St  Munising MI 49862
GEO:46.4092099;-86.6520237
END:VEVENT
END:VCALENDAR