BEGIN:VCALENDAR
VERSION:2.0
PRODID:-//Tukios.com/
BEGIN:VEVENT
UID:e6a238bd-fba9-455a-ae3c-8dfce8dffa8f@www.bowermanfuneralhome.net
DTSTAMP:20260423T002151Z
DTSTART:20260425T170000Z
DTEND:20260425T190000Z
SUMMARY:Visitation
DESCRIPTION:
URL:https://www.bowermanfuneralhome.net/obituaries/jacob-jake-attebery
LOCATION: 302 E Superior St  Munising MI 49862
GEO:46.4092099;-86.6520237
END:VEVENT
END:VCALENDAR