BEGIN:VCALENDAR
VERSION:2.0
PRODID:-//Tukios.com/
BEGIN:VEVENT
UID:1741ca99-6cf4-4cd3-942c-ce8927286cda@www.bowermanfuneralhome.net
DTSTAMP:20260423T001941Z
DTSTART:20260425T190000Z
DTEND:20260425T200000Z
SUMMARY:Funeral Service
DESCRIPTION:
URL:https://www.bowermanfuneralhome.net/obituaries/jacob-jake-attebery
LOCATION: 302 E Superior St  Munising MI 49862
GEO:46.4092099;-86.6520237
END:VEVENT
END:VCALENDAR