BEGIN:VCALENDAR
VERSION:2.0
PRODID:-//Tukios.com/
BEGIN:VEVENT
UID:7302fd54-a061-4068-8397-b113ea3f9d9a@www.bowermanfuneralhome.net
DTSTAMP:20260420T033332Z
DTSTART:20260604T220000Z
DTEND:20260605T000000Z
SUMMARY:Visitation
DESCRIPTION:
URL:https://www.bowermanfuneralhome.net/obituaries/josephine-josie-seglund
LOCATION: 302 E Superior St  Munising MI 49862
GEO:46.4092099;-86.6520237
END:VEVENT
END:VCALENDAR