BEGIN:VCALENDAR
VERSION:2.0
PRODID:-//Tukios.com/
BEGIN:VEVENT
UID:ddc216d3-dc41-4a8d-a240-68fc6fa272c2@www.bowermanfuneralhome.net
DTSTAMP:20260420T033059Z
DTSTART:20260604T230000Z
DTEND:20260604T234500Z
SUMMARY:Prayer Service
DESCRIPTION:
URL:https://www.bowermanfuneralhome.net/obituaries/josephine-josie-seglund
LOCATION: 302 East Superior Street  Munising MI 49862
GEO:46.4092079;-86.652051
END:VEVENT
END:VCALENDAR