BEGIN:VCALENDAR
VERSION:2.0
PRODID:-//Tukios.com/
BEGIN:VEVENT
UID:9ef5b9c2-d083-4732-985c-83f835587aa5@www.bowermanfuneralhome.net
DTSTAMP:20260420T033332Z
DTSTART:20260605T160000Z
DTEND:20260605T170000Z
SUMMARY:Mass
DESCRIPTION:
URL:https://www.bowermanfuneralhome.net/obituaries/josephine-josie-seglund
LOCATION:Sacred Heart Church  110 West Jewell Street  Munising MI 49862
GEO:46.4085188;-86.6580203
END:VEVENT
END:VCALENDAR