BEGIN:VCALENDAR
VERSION:2.0
PRODID:-//Tukios.com/
BEGIN:VEVENT
UID:56d90bd2-fd5d-4706-9361-7a62c9292f44@www.bowermanfuneralhome.net
DTSTAMP:20260420T033332Z
DTSTART:20260605T170000Z
DTEND:20260605T200000Z
SUMMARY:Celebration of Life
DESCRIPTION:
URL:https://www.bowermanfuneralhome.net/obituaries/josephine-josie-seglund
LOCATION:Life on the Rocks 115 E Munising Ave  Munising MI 49862
GEO:46.4114546;-86.653755
END:VEVENT
END:VCALENDAR