BEGIN:VCALENDAR
VERSION:2.0
PRODID:-//Tukios.com/
BEGIN:VEVENT
UID:29e608dd-cccf-4f3c-8ee5-21b0408255a5@www.bowermanfuneralhome.net
DTSTAMP:20260421T043640Z
DTSTART:20260620T180000Z
DTEND:20260620T220000Z
SUMMARY:Celebration of Life
DESCRIPTION:
URL:https://www.bowermanfuneralhome.net/obituaries/thomas-taskey
LOCATION:New Moon E2892 M-94  Eben Junction MI 49825
GEO:46.3324087;-86.8417241
END:VEVENT
END:VCALENDAR